BEGIN:VCALENDAR
VERSION:2.0
PRODID:-//Fifalde - ECPv6.15.17.1//NONSGML v1.0//EN
CALSCALE:GREGORIAN
METHOD:PUBLISH
X-WR-CALNAME:Fifalde
X-ORIGINAL-URL:https://fifalde.ca
X-WR-CALDESC:Events for Fifalde
REFRESH-INTERVAL;VALUE=DURATION:PT1H
X-Robots-Tag:noindex
X-PUBLISHED-TTL:PT1H
BEGIN:VTIMEZONE
TZID:America/Toronto
BEGIN:DAYLIGHT
TZOFFSETFROM:-0500
TZOFFSETTO:-0400
TZNAME:EDT
DTSTART:20290311T070000
END:DAYLIGHT
BEGIN:STANDARD
TZOFFSETFROM:-0400
TZOFFSETTO:-0500
TZNAME:EST
DTSTART:20291104T060000
END:STANDARD
BEGIN:DAYLIGHT
TZOFFSETFROM:-0500
TZOFFSETTO:-0400
TZNAME:EDT
DTSTART:20300310T070000
END:DAYLIGHT
BEGIN:STANDARD
TZOFFSETFROM:-0400
TZOFFSETTO:-0500
TZNAME:EST
DTSTART:20301103T060000
END:STANDARD
BEGIN:DAYLIGHT
TZOFFSETFROM:-0500
TZOFFSETTO:-0400
TZNAME:EDT
DTSTART:20310309T070000
END:DAYLIGHT
BEGIN:STANDARD
TZOFFSETFROM:-0400
TZOFFSETTO:-0500
TZNAME:EST
DTSTART:20311102T060000
END:STANDARD
END:VTIMEZONE
BEGIN:VEVENT
DTSTART;VALUE=DATE:20300101
DTEND;VALUE=DATE:20300102
DTSTAMP:20260421T150222
CREATED:20201217T144151Z
LAST-MODIFIED:20250312T194949Z
UID:6818-1893456000-1893542399@fifalde.ca
SUMMARY:PRINCE2 Agile® Foundation
DESCRIPTION:PRINCE2 Agile® is the world’s most complete agile project management solution\, combining the flexibility and responsiveness of agile with the governance of PRINCE2®.\nIt is an extension module tailored for forward-thinking organizations and individuals already benefiting from PRINCE2 and provides further guidance on how to apply agile methods to the world’s most recognized project management method. \nDeveloped in response to demand from user communities\, PRINCE2 Agile provides structure\, governance and controls when working with agile concepts\, methods and techniques. Designed to help professionals tailor management controls when working in an agile environment\, the new product will help practitioners understand PRINCE2 governance requirements clearly and comprehensively as well as the interface between PRINCE2 and agile ways of working. \nThis certification is aimed at professionals who work within a project environment including key staff involved with integrating project management with product delivery. An understanding of the agile concepts detailed in PRINCE2 Agile will also be beneficial to those with governance responsibilities for projects using agile delivery approaches as well as those involved with programme and project support functions.\n \nKEY BENEFITS OF PRINCE2 AGILE  \n\nAllows you to focus on both management and delivery\nWorks with any established agile approach\nBe on time and hit deadlines more consistently\nA collaboratively-built project that is corporate-friendly\nLets you scale to your precise requirements and pragmatism\nIncrease stakeholder confidence\nAdditional tools to manage and react to changing requirements. \n\nPRINCE2 Agile® Foundation \nPRINCE2 Agile Foundation is a newly developed certification level to support PRINCE2 Agile. In 2015\, PRINCE2 Agile initially launched with a Practitioner level certification and this new Foundation level will build upon that success by opening PRINCE2 Agile out to project managers outside of the existing PRINCE2 community.  The development of the new certification level will not impact the existing prerequisites for PRINCE2 Agile Practitioner\, it will add one more route for candidates. \nObjectives  \n\nStudents who complete this course will have learned:\nUnderstand PRINCE2 governance requirements clearly and comprehensively\nGain a broad range of knowledge of agile concepts and techniques including: Scrum\, Kanban\, Lean Start-up and Cynefin\nExplore the interface between PRINCE2 and agile ways of working \n\nWho it is aimed at \nPRINCE2 Agile® Foundation has been developed for anyone who delivers projects\, large or small\, in an agile context. It is a valuable training and certification scheme for anyone working within an agile project environment\, whether they be a project manager\, project support or part of the wider project team. \nContents  \n\nThe course material includes:\nCourse overview\nPRINCE2 overview\nPRINCE2 Agile overview\nThemes in an Agile setting\nProcesses in an Agile setting\nAreas of focus\nScrum\, Kanban and Lean Start-up \n\nThis course is sold with the exam.  \n\n\nPRINCE2® is a registered trade mark of AXELOS Limited\, used under permission of AXELOS Limited.\nThe Swirl logo™ is a trade mark of AXELOS Limited\, used under permission of AXELOS Limited.\nAll rights reserved.\nPRINCE2 Agile® Foundation \n\nThe courses on this page are offered by iLEARN innovative \n\n\nRegister Your Interest or get more info ×You didn't see a suitable course listed or you just want more info\n\n\n                \n                        Name of the training you are interested in*Organization name*Your Name*\n                            \n                            \n                                                    \n                                                    First\n                                                \n                            \n                            \n                                                    \n                                                    Last\n                                                \n                            \n                        Email*\n                            \n                        I would like to complete the course within:\n			\n				\n				This month\n			\n			\n				\n				Next month\n			\n			\n				\n				3 months\n			\n			\n				\n				6 months\n			How many people would take this course?\n			\n				\n				1\n			\n			\n				\n				2\n			\n			\n				\n				3\n			\n			\n				\n				4\n			\n			\n				\n				5+\n			Online course & private training\n								\n								I would consider an online course\n							\n								\n								I would consider a private training\n							CommentsMath Test!*10+2 x 2=?\n          \n            \n            \n            \n            \n            \n            \n            \n            \n            \n            \n            \n            \n            \n        \n                        \n                        \n\nClose\nCoaching Hours for E-Learning×Coaching Hours\nThese are one-on-one coaching sessions allowing the participant(s) to review certain concepts and get additional explanations.  \nIt can also be used for reviewing some key elements of the courses and for asking our expert questions before the participant(s) take(s) their exam. \nWe recommend between 1 to 10 hours. Add hours with the + sign \n \nClose
URL:https://fifalde.ca/competence/prince2-agile-foundation/
CATEGORIES:Agile and Scrum,Project Management
END:VEVENT
END:VCALENDAR