BEGIN:VCALENDAR
VERSION:2.0
PRODID:-//Fifalde - ECPv6.15.17.1//NONSGML v1.0//EN
CALSCALE:GREGORIAN
METHOD:PUBLISH
X-WR-CALNAME:Fifalde
X-ORIGINAL-URL:https://fifalde.ca/fr/
X-WR-CALDESC:Évènements pour Fifalde
REFRESH-INTERVAL;VALUE=DURATION:PT1H
X-Robots-Tag:noindex
X-PUBLISHED-TTL:PT1H
BEGIN:VTIMEZONE
TZID:America/Toronto
BEGIN:DAYLIGHT
TZOFFSETFROM:-0500
TZOFFSETTO:-0400
TZNAME:EDT
DTSTART:20290311T070000
END:DAYLIGHT
BEGIN:STANDARD
TZOFFSETFROM:-0400
TZOFFSETTO:-0500
TZNAME:EST
DTSTART:20291104T060000
END:STANDARD
BEGIN:DAYLIGHT
TZOFFSETFROM:-0500
TZOFFSETTO:-0400
TZNAME:EDT
DTSTART:20300310T070000
END:DAYLIGHT
BEGIN:STANDARD
TZOFFSETFROM:-0400
TZOFFSETTO:-0500
TZNAME:EST
DTSTART:20301103T060000
END:STANDARD
BEGIN:DAYLIGHT
TZOFFSETFROM:-0500
TZOFFSETTO:-0400
TZNAME:EDT
DTSTART:20310309T070000
END:DAYLIGHT
BEGIN:STANDARD
TZOFFSETFROM:-0400
TZOFFSETTO:-0500
TZNAME:EST
DTSTART:20311102T060000
END:STANDARD
END:VTIMEZONE
BEGIN:VEVENT
DTSTART;VALUE=DATE:20300101
DTEND;VALUE=DATE:20300102
DTSTAMP:20260421T151625
CREATED:20191221T215253Z
LAST-MODIFIED:20231009T132152Z
UID:3544-1893456000-1893542399@fifalde.ca
SUMMARY:DASA DevOps Fondamentaux
DESCRIPTION:Des entreprises du monde entier migrent leur stratégie informatique\, passant de logiciels achetés propriétaires dans leurs propres centres de données internes à des solutions ouvertes (open source)\, à la fois sur l’empreinte physique traditionnelle et sur les environnements nuagiques (clouds) privés et publics. \nEn même temps\, la manière dont les applications sont développées et gérées évolue considérablement. \nDASA est un mouvement ouvert\, n’importe qui peut y participer pour aider à développer les qualifications requises par les professionnels. Les qualifications sont basées sur les meilleures pratiques les plus récentes mises en œuvre par les principales organisations de praticiens de DevOps. \nLe cours DASA DevOps Fondamentaux est extrêmement complet et touche à tous les composants qui aideront les équipes informatiques à progresser dans la transformation numérique. \nContrairement à tout ce qui existe sur le marché\, la certification officielle DASA est basée sur un cadre de compétences de haut niveau qui permet de comparer les connaissances\, les compétences et l’expérience. \nCe cours vous fournit les outils nécessaires pour obtenir avec succès la certification Fondamentaux\, que nous administrerons le troisième jour du cours ou que nous effectuerons plus tard au moyen d’un bon d’examen. \nChaque étudiant reçoit: \n\nDeux jours et demi de formation dirigée par un instructeur et animation d’exercices \nManuel de l’apprenant (excellente référence après la classe) \nExemple d’examen et de préparation à l’examen \nExamen en classe ou un bon d’examen \n\nPour plus d’information à cet égard\, veuillez consulter le DevOps Fondamentaux Syllabus – FR V1.0.pdf \n \nDASA DevOps Fondamentaux \nEnregistrez votre intéret ou recevez plus d’information ×Enregistrez votre intéret\n\n\n                \n                        Nom de la formation dont vous êtes intéressé*Nom de l'organisation*Votre nom*\n                            \n                            \n                                                    \n                                                    Prénom\n                                                \n                            \n                            \n                                                    \n                                                    nom\n                                                \n                            \n                        Courriel*\n                            \n                        Je voudrais compléter cette formation:\n			\n				\n				Ce mois-ci\n			\n			\n				\n				Le mois prochain\n			\n			\n				\n				Avant 3 mois\n			\n			\n				\n				Avant 6 mois\n			Combien de personnes voudraient suivre cette formation?\n			\n				\n				1\n			\n			\n				\n				2\n			\n			\n				\n				3\n			\n			\n				\n				4\n			\n			\n				\n				5+\n			Cours en ligne et formation privée\n								\n								Je considèrais un cours en ligne\n							\n								\n								Je considèrais une formation privée\n							CommentairesTest de mathématique: Montrez que vous êtes un super humain!*10 + 2 x 2 = ?\n          \n            \n            \n            \n            \n            \n            \n            \n            \n            \n            \n            \n            \n            \n        \n                        \n                        \n\nClose
URL:https://fifalde.ca/fr/competence/dasa-devops-fondamentaux/
CATEGORIES:Gestion services informatiques
END:VEVENT
END:VCALENDAR