BEGIN:VCALENDAR
VERSION:2.0
PRODID:-//Fifalde - ECPv6.15.17.1//NONSGML v1.0//EN
CALSCALE:GREGORIAN
METHOD:PUBLISH
X-WR-CALNAME:Fifalde
X-ORIGINAL-URL:https://fifalde.ca/fr/
X-WR-CALDESC:Évènements pour Fifalde
REFRESH-INTERVAL;VALUE=DURATION:PT1H
X-Robots-Tag:noindex
X-PUBLISHED-TTL:PT1H
BEGIN:VTIMEZONE
TZID:America/Toronto
BEGIN:DAYLIGHT
TZOFFSETFROM:-0500
TZOFFSETTO:-0400
TZNAME:EDT
DTSTART:20290311T070000
END:DAYLIGHT
BEGIN:STANDARD
TZOFFSETFROM:-0400
TZOFFSETTO:-0500
TZNAME:EST
DTSTART:20291104T060000
END:STANDARD
BEGIN:DAYLIGHT
TZOFFSETFROM:-0500
TZOFFSETTO:-0400
TZNAME:EDT
DTSTART:20300310T070000
END:DAYLIGHT
BEGIN:STANDARD
TZOFFSETFROM:-0400
TZOFFSETTO:-0500
TZNAME:EST
DTSTART:20301103T060000
END:STANDARD
BEGIN:DAYLIGHT
TZOFFSETFROM:-0500
TZOFFSETTO:-0400
TZNAME:EDT
DTSTART:20310309T070000
END:DAYLIGHT
BEGIN:STANDARD
TZOFFSETFROM:-0400
TZOFFSETTO:-0500
TZNAME:EST
DTSTART:20311102T060000
END:STANDARD
END:VTIMEZONE
BEGIN:VEVENT
DTSTART;VALUE=DATE:20300101
DTEND;VALUE=DATE:20300102
DTSTAMP:20260421T164327
CREATED:20191221T223937Z
LAST-MODIFIED:20210801T121132Z
UID:3551-1893456000-1893542399@fifalde.ca
SUMMARY:Kepner-Tregoe®(fr)
DESCRIPTION:Les principaux avantages d’ITILMD sont un cadre de travail de haut niveau et une série de définitions claires de la terminologie utilisée. En revanche\, ITIL ne fournit pas les éléments mécaniques ni les explications connexes nécessaires pour se rendre du point A au point B. C’est ici qu’entre en jeu la méthode Kepner‑Tregoe\, grâce à laquelle vous pourrez gérer et réaliser ces processus. \nContexte          \nKepner-Tregoe est l’une des plus importantes entreprises de dépannage informatique du monde; elle améliore la performance du service et du soutien à  la clientèle depuis plus d’un demi‑siècle. La méthode d’analyse des problèmes de Kepner-Tregoe est recommandée à titre de meilleure pratique dans la publication officielle sur l’exploitation des services ITIL. Depuis plus de 50 ans\,  Kepner-Tregoe utilise cette méthode avant‑gardiste pour accroître au maximum la performance des services d’organisations d’envergure mondiale\, dont la NASA\, IBM\, Sun Microsystems\, RIM et Siemens. \nKepner-TregoeMD : une valeur sûre \n\nAugmentation de plus de 90 % de la satisfaction client (par ex.\, Blackberry/RIM\, IBM Rational\, Siemens) \nDiminution\, jusqu’à 50 %\, de la durée de résolution (par ex.\, SUN\, Blackberry/RIM\, IBM Rational\, DELL) \nDiminution\, jusqu’à 60 %\, des retards \nAmélioration\, jusqu’à 40 %\, du taux fixe de première intervention \nAutres études de cas : Apollo 13\, interruption BlackBerry \n\nLa gestion des problèmes et des incidents fait partie des modules ITIL intermédiaires Exploitation des services (SO) (pour le volet Cycle de vie des services) et Soutien opérationnel et analyse (OSA) (pour le volet Capacité des services). Le cours Fondation Kepner-Tregoe proposé s’adresse avant tout à ce groupe d’ITIL. \nCours Fondation Kepner-TregoeMD : la porte d’entrée vers l’excellence des services\n \nCe cours de deux jours portera sur les principales capacités de réflexion cruciales en ce qui a trait à l’Évaluation de la situation\, à l’Analyse des problèmes\, à l’Analyse des décisions et à l’Analyse des problèmes potentiels de façon à ce que les participants comprennent comment appliquer ces aptitudes au dépannage informatique\, indépendamment des technologies sous‑jacentes. \nOn y présentera une approche systématique qui permet de résoudre plus rapidement et plus efficacement les problèmes informatiques ainsi que les problèmes soumis par les clients de façon à accroître la satisfaction client. Durant ce cours\, les participants acquerront les techniques de réflexion structurées essentielles pour prendre de meilleures décisions\, effectuer une analyse proactive et éviter les problèmes. \nAccrédité par Kepner-Tregoe\, une entreprise dont l’expertise en résolution des enjeux organisationnels est confirmée\, ce cours mène à l’obtention de la certification Fondation de Kepner-Tregoe. Son objectif est d’inculquer aux participants les bases nécessaires pour offrir des services de soutien uniformes de grande qualité à leurs clients. \nLes participants acquerront les concepts de base de la gestion des problèmes et des incidents développés par Kepner-Tregoe ainsi que les meilleures pratiques utilisées par des organisations de service de soutien à la clientèle du monde entier pour améliorer la performance des processus. \nCertification\nLes participants qui complètent le cours accrédité de deux jours Fondation Kepner-Tregoe sont admissibles à l’examen de certification qui comporte 40 questions à choix multiple et dont l’objectif est de tester la mesure dans laquelle les candidats comprennent le contenu du programme du cours. \nL’examen sans document dure 60 minutes. Les personnes non anglophones disposeront de 90 minutes pour faire l’examen et auront le droit de se servir d’un dictionnaire. La note de passage est 70 %; il faut donc 28 réponses correctes sur 40. Les candidats qui réussissent l’examen recevront la certification Fondation Kepner‑Tregoe de Kepner-Tregoe et ITpreneurs. \nDébutez votre parcours d’expert en dépannage informatique avec la formation Fondation Kepner‑Tregoe : Le point de vue du participant!\nAtelier Kepner-Tregoe de niveau supérieur sur la gestion des problèmes et des incidents\nUne formation supplémentaire concernant l’approche de Kepner-Tregoe en matière de dépannage informatique et de résolution des problèmes à l’intention des clients est offerte dans le cadre d’un atelier de niveau supérieur de deux jours. Cet atelier est conçu pour aider les participants à mettre en pratique les concepts du cours Fondation Kepner‑Tregoe\, qu’il faut avoir préalablement suivi. Cet atelier s’adresse à toutes les personnes qui souhaitent mieux connaître la méthodologie Kepner-Tregoe pour l’appliquer dans le cadre de leurs activités quotidiennes en vue d’améliorer la performance en ce qui a trait à la gestion des problèmes et des incidents; il revêt un intérêt particulier pour les personnes chargées de gérer les problèmes et les incidents. \nUne meilleure pratique selon ITIL\nDans la publication officielle Exploitation des services\, la méthodologie Kepner‑Tregoe enseignée dans le cadre du cours Fondation est recommandée à titre de meilleure pratique par ITIL. Un examen approfondi de la méthode d’analyse des problèmes de Kepner-Tregoe\, une démarche étape par étape\, est un élément central du cours. Les quatre processus fondamentaux de Kepner‑Tregoe (Évaluation de la situation\, Analyse des problèmes\, Analyse des décisions et Analyse des problèmes potentiels) couverts par le cours permettent aux professionnels d’appliquer au dépannage informatique une approche étape par étape couramment utilisée. \nAvantages du cours Kepner-TregoeMD \n\nPrésente des techniques de réflexion cruciales pour favoriser l’efficacité du dépannage informatique. \nOffre une formation concernant une meilleure pratique industrielle recommandée par ITIL. \nPermet d’obtenir la certification de Kepner-Tregoe\, l’une des plus importantes entreprises de dépannage informatique du monde. \nPermet de former une équipe d’experts qui se fient à des principes de dépannage communs lorsqu’ils collaborent pour résoudre un problème. \nReprésente une condition préalable pour participer à l’atelier de niveau supérieur de Kepner-Tregoe. \n\nPour plus d’information à cet égard\, veuillez consulter le Kepner-Tregoe Course Syllabus – FR V1.1.pdf \nKepner-Tregoe®(fr) \nEnregistrez votre intéret ou recevez plus d’information ×Enregistrez votre intéret\n\n\n                \n                        Nom de la formation dont vous êtes intéressé*Nom de l'organisation*Votre nom*\n                            \n                            \n                                                    \n                                                    Prénom\n                                                \n                            \n                            \n                                                    \n                                                    nom\n                                                \n                            \n                        Courriel*\n                            \n                        Je voudrais compléter cette formation:\n			\n				\n				Ce mois-ci\n			\n			\n				\n				Le mois prochain\n			\n			\n				\n				Avant 3 mois\n			\n			\n				\n				Avant 6 mois\n			Combien de personnes voudraient suivre cette formation?\n			\n				\n				1\n			\n			\n				\n				2\n			\n			\n				\n				3\n			\n			\n				\n				4\n			\n			\n				\n				5+\n			Cours en ligne et formation privée\n								\n								Je considèrais un cours en ligne\n							\n								\n								Je considèrais une formation privée\n							CommentairesTest de mathématique: Montrez que vous êtes un super humain!*10 + 2 x 2 = ?\n          \n            \n            \n            \n            \n            \n            \n            \n            \n            \n            \n            \n            \n            \n        \n                        \n                        \n\nClose
URL:https://fifalde.ca/fr/competence/kepner-tregoefr/
CATEGORIES:Gestion services informatiques
END:VEVENT
END:VCALENDAR