BEGIN:VCALENDAR
VERSION:2.0
PRODID:-//Fifalde - ECPv6.15.17.1//NONSGML v1.0//EN
CALSCALE:GREGORIAN
METHOD:PUBLISH
X-WR-CALNAME:Fifalde
X-ORIGINAL-URL:https://fifalde.ca/fr/
X-WR-CALDESC:Évènements pour Fifalde
REFRESH-INTERVAL;VALUE=DURATION:PT1H
X-Robots-Tag:noindex
X-PUBLISHED-TTL:PT1H
BEGIN:VTIMEZONE
TZID:America/Toronto
BEGIN:DAYLIGHT
TZOFFSETFROM:-0500
TZOFFSETTO:-0400
TZNAME:EDT
DTSTART:20290311T070000
END:DAYLIGHT
BEGIN:STANDARD
TZOFFSETFROM:-0400
TZOFFSETTO:-0500
TZNAME:EST
DTSTART:20291104T060000
END:STANDARD
BEGIN:DAYLIGHT
TZOFFSETFROM:-0500
TZOFFSETTO:-0400
TZNAME:EDT
DTSTART:20300310T070000
END:DAYLIGHT
BEGIN:STANDARD
TZOFFSETFROM:-0400
TZOFFSETTO:-0500
TZNAME:EST
DTSTART:20301103T060000
END:STANDARD
BEGIN:DAYLIGHT
TZOFFSETFROM:-0500
TZOFFSETTO:-0400
TZNAME:EDT
DTSTART:20310309T070000
END:DAYLIGHT
BEGIN:STANDARD
TZOFFSETFROM:-0400
TZOFFSETTO:-0500
TZNAME:EST
DTSTART:20311102T060000
END:STANDARD
END:VTIMEZONE
BEGIN:VEVENT
DTSTART;VALUE=DATE:20300101
DTEND;VALUE=DATE:20300102
DTSTAMP:20260421T112336
CREATED:20210617T142728Z
LAST-MODIFIED:20230925T182204Z
UID:8164-1893456000-1893542399@fifalde.ca
SUMMARY:PeopleCert DevOps Fondamentaux
DESCRIPTION:PeopleCert DevOps Fundamentals aide les candidats à mieux comprendre l’importance de la communication\, collaboration\, intégration et automatisation dans le mouvement DevOps en tant que facteurs critiques qui améliorent le flux de travaux entre les développeurs de logiciels et les professionnels des opérations informatiques et qui soutiennent les organisations dans leur parcours de transformation numérique. \nObjectifs\n\nLes titulaires de la certification PeopleCert DevOps Fundamentals seront capables de démontrer leurs connaissances\, leur compréhension et l’application pratique de : \n\n\nL’Histoire et le Besoin de DevOps ;\nConcepts clés de DevOps ;\nLa Valeur Métier de DevOps ;\nLes concepts sous-jacents à C.A.L.M.S.\, les trois principes clés\, la livraison continue et la portée du Full Stack ;\nLa culture DevOps\, le leadership transformationnel et la collaboration\nÉvolution des Pratiques DevOps et les 15 Pratiques Essentielles de DevOps\nLa gestion de projet Agile et la méthodologie Scrum\nLes concepts clés du cloud et de la virtualisation\, de l’automatisation du pipeline de déploiement et de l’architecture pour la livraison continue\n\n\n\n\n\nAdressé à\n\n\nPeopleCert DevOps Fundamentals s’adresse à toute personne qui souhaite devenir un membre efficace d’un environnement DevOps. Les candidats doivent démontrer leurs connaissances et leur compréhension des termes\, des principes\, des outils et des pratique DevOps ainsi que démontrer leurs compétences de mise en œuvre et d’utilisation des outils de manière efficiente et efficace \n\n\n\n\nContenus\n\n\n\n\nIntroduction au cours et Qu’est-ce que DevOps ?\nLa nécessité d’adopter DevOps\nPrincipes et concepts clés de DevOps\nLe Full Stack : Personnes et culture\nLe Full Stack : Processus et pratiques\nLe Full Stack : Technologie et automatisation\nRécapitulatif et préparation à l’examen\n\n\nDÉTAILS DU COURS\n\n\n7 leçons (5 heures de vidéos enregistrées par un enseignant accrédité)\nDocuments PDF téléchargeablesavec un contenu détaillé (diapositives\, explications) pour chaque leçon\n1 examen blanc officiel\nExercises et solutions\nAccès 24 heures sur 24\n\n\nPour compléter la formation et avoir une préparation optimale à l’examen\, nous vous recommandons de dédier au moins 14 heures d’étude. \nDÉTAILS DE L’EXAMEN\n\n\nDurée de 60 minutes (durée de 90 minutes pour les candidats souhaitant passer l’examen dans une langue qui n’est pas leur langue maternelle)\nLivre fermé\n40 questions à choix multiples\n28 points pour réussir l’examen (sur 40) – 70%\n\n\n \n\n\n\nLes cours eLearning DevOps Fundamentals sur cette page sont proposés par iLEARN ATO /Affilié de PeopleCert. \nCoaching Hours for E-Learning×Heures d’encadrement\nThese are one-on-one coaching sessions allowing the participant(s) to review certain concepts and get additional explanations.  \nIt can also be used for reviewing some key elements of the courses and for asking our expert questions before the participant(s) take(s) their exam. \nWe recommend between 1 to 10 hours. Add hours with the + sign \n \nClose\nEnregistrez votre intéret ou recevez plus d’information ×Enregistrez votre intéret\n\n\n                \n                        Nom de la formation dont vous êtes intéressé*Nom de l'organisation*Votre nom*\n                            \n                            \n                                                    \n                                                    Prénom\n                                                \n                            \n                            \n                                                    \n                                                    nom\n                                                \n                            \n                        Courriel*\n                            \n                        Je voudrais compléter cette formation:\n			\n				\n				Ce mois-ci\n			\n			\n				\n				Le mois prochain\n			\n			\n				\n				Avant 3 mois\n			\n			\n				\n				Avant 6 mois\n			Combien de personnes voudraient suivre cette formation?\n			\n				\n				1\n			\n			\n				\n				2\n			\n			\n				\n				3\n			\n			\n				\n				4\n			\n			\n				\n				5+\n			Cours en ligne et formation privée\n								\n								Je considèrais un cours en ligne\n							\n								\n								Je considèrais une formation privée\n							CommentairesTest de mathématique: Montrez que vous êtes un super humain!*10 + 2 x 2 = ?\n          \n            \n            \n            \n            \n            \n            \n            \n            \n            \n            \n            \n            \n            \n        \n                        \n                        \n\nClose
URL:https://fifalde.ca/fr/competence/peoplecert-devops-fondamentaux/
CATEGORIES:Gestion services informatiques
END:VEVENT
END:VCALENDAR